BEGIN:VCALENDAR
VERSION:1.0
PRODID:Open2CKalenderExportV11
BEGIN:VEVENT
DTSTAMP:20230314T124839Z
DTSTART:20230201T160000Z
DTEND:20230201T160000Z
CATEGORIES:Sitzungen
SUMMARY:ABGESAGT: Sitzung des Haupt- und Finanzausschusses
DESCRIPTION:  | Weitere Informationen erhalten Sie unter folgendem Link: | SessionNet | Bürortal (livingdata.de)gerinfop | Kontakt   Gemeindeverwaltung Scheyern
LOCATION:im Rathaus Scheyern, Ludwigstraße 2
UID:39a801c02914873a6682e36e0d5662ae-70cb7e4ff4d999c761a3936a5aedc956
PRIORITY:3
END:VEVENT
END:VCALENDAR
