BEGIN:VCALENDAR
VERSION:1.0
PRODID:Open2CKalenderExportV11
BEGIN:VEVENT
DTSTAMP:20230314T124734Z
DTSTART:20230724T160000Z
DTEND:20230724T160000Z
CATEGORIES:Sitzungen
SUMMARY:Sitzung des Werk- und Vergabeausschusses
DESCRIPTION:  | Weitere Informationen erhalten Sie unter folgendem Link: | SessionNet | Bürgerinfoportal (livingdata.de) | Kontakt   Gemeindeverwaltung Scheyern
LOCATION:im Rathaus Scheyern, Ludwigstraße 2
UID:96f54bd80475242b4909545c00c1f8c7-963b13e54de46f0f8b12a8f871d14c3b
PRIORITY:3
END:VEVENT
END:VCALENDAR
