BEGIN:VCALENDAR
VERSION:1.0
PRODID:Open2CKalenderExportV11
BEGIN:VEVENT
DTSTAMP:20230314T124639Z
DTSTART:20230307T160000Z
DTEND:20230307T160000Z
CATEGORIES:Sitzungen
SUMMARY:Sitzung des Haupt- und Finanzausschusses
DESCRIPTION:  | Weitere Informationen erhalten Sie unter folgendem Link: | SessionNet | Bürortal (livingdata.de)gerinfop | Kontakt   Gemeindeverwaltung Scheyern
LOCATION:im Rathaus Scheyern, Ludwigstraße 2
UID:becec0b77274189663f60e1ed5350c47-182905d1ce1e8b78b3596669f5f06eb1
PRIORITY:3
END:VEVENT
END:VCALENDAR
