BEGIN:VCALENDAR
VERSION:1.0
PRODID:Open2CKalenderExportV11
BEGIN:VEVENT
DTSTAMP:20230314T124613Z
DTSTART:20230425T160000Z
DTEND:20230425T160000Z
CATEGORIES:Sitzungen
SUMMARY:Sitzung des Bau- und Umweltausschusses
DESCRIPTION:  | Weitere Informationen erhalten Sie unter folgendem Link: | SessionNet | Bürortal (livingdata.de)gerinfop | Kontakt   Gemeindeverwaltung Scheyern
LOCATION:im Rathaus Scheyern, Ludwigstraße 2
UID:2b8423d5ea73eb30bd5b6f83fdb0a669-d9114291edccf4718452fc3097514517
PRIORITY:3
END:VEVENT
END:VCALENDAR
