BEGIN:VCALENDAR
VERSION:1.0
PRODID:Open2CKalenderExportV11
BEGIN:VEVENT
DTSTAMP:20230314T124531Z
DTSTART:20230725T160000Z
DTEND:20230725T160000Z
CATEGORIES:Sitzungen
SUMMARY:Sitzung des Bau- und Umweltausschusses
DESCRIPTION:  | Weitere Informationen erhalten Sie unter folgendem Link: | SessionNet | Bürortal (livingdata.de)gerinfop | Kontakt   Gemeindeverwaltung Scheyern
LOCATION:im Rathaus Scheyern, Ludwigstraße 2
UID:6f5b5ef5f20d172322a3f9c6180dda78-d9114291edccf4718452fc3097514517
PRIORITY:3
END:VEVENT
END:VCALENDAR
