BEGIN:VCALENDAR
VERSION:1.0
PRODID:Open2CKalenderExportV11
BEGIN:VEVENT
DTSTAMP:20230314T124304Z
DTSTART:20231114T193000Z
DTEND:20231114T193000Z
CATEGORIES:Sitzungen
SUMMARY:Sitzung des Gemeinderates
DESCRIPTION:  | Weitere Informationen erhalten Sie unter folgendem Link: | SessionNet | Bürortal (livingdata.de)gerinfop | Kontakt   Gemeindeverwaltung Scheyern
LOCATION:im Rathaus Scheyern, Ludwigstraße 2
UID:9651d0ed27cd2b749b7f646485eb554c-72334f7a6f6b85699c148dccdd488d0d
PRIORITY:3
END:VEVENT
END:VCALENDAR
