BEGIN:VCALENDAR
VERSION:1.0
PRODID:Open2CKalenderExportV11
BEGIN:VEVENT
DTSTAMP:20231205T095028Z
DTSTART:20231212T203000Z
DTEND:20231212T203000Z
CATEGORIES:Sitzungen
SUMMARY:Sitzung des Gemeinderates
DESCRIPTION:  | Weitere Informationen erhalten Sie unter folgendem Link: | SessionNet | Bürortal (livingdata.de)gerinfop | Kontakt   Gemeindeverwaltung Scheyern
LOCATION:im Rathaus Scheyern, Ludwigstraße 2
UID:ee2009639cf51aff959d9d6449842fc0-72334f7a6f6b85699c148dccdd488d0d
PRIORITY:3
END:VEVENT
END:VCALENDAR
