BEGIN:VCALENDAR
VERSION:1.0
PRODID:Open2CKalenderExportV11
BEGIN:VEVENT
DTSTAMP:20230313T080154Z
DTSTART:20230420T193000Z
DTEND:20230420T193000Z
CATEGORIES:Sitzungen
SUMMARY:Vereinstreffen und Jugendforum
DESCRIPTION:  | Einladung zum Vereinstreffen und dem Jugendforum |   |   | Sehr geehrte Damen und Herren, |   | die Jugendbeauftragte der Gemeinde Scheyern, Frau Anna Schrag, und die Frauenunion Scheyern laden herzlich ein zum |   | Frühjahrstreffen |   | am Donnerstag, 20. April um 19:30 Uhr  |   | im Dorfgemeinschaftshaus Euernbach. |   | Die Einladung richtet sich an die Vertreter der Vereine und Einrichtungen in der Gemeinde Scheyern, insbesondere auch an diejenigen, die für die Jugendarbeit verantwortlich sind. |   | Es geht darum, sich kennen zu lernen, Aktionen vorzustellen und gemeinsame Anliegen zu besprechen. In den Sommerferien soll auch in diesem Jahr wieder eine Ferienpassaktion für die Kinder organisiert werden. Informationen dazu gibt es diesem Abend. Bürgermeister Manfred Sterz wird ebenfalls am Treffen teilnehmen. |   | Gerne können vorab Themenwünsche/Anliegen mitgeteilt werden. Ansprechpartner sind Alice Köstler-Hösl (alice.koestler-hoesl@web.de) und Anna Schrag (anna.schrag@gmx.de). |   | Wir freuen uns auf einen interessanten Abend rund um das Ehrenamt! |   | Mit freundlichen Grüßen |   |   | gez. |   | Anna Schrag                                                  Alice Köstler-Hösl                   | Jugendbeauftragte                                        für die Frauenunion Scheyern |   |   |   |   | Kontakt   Alice Köstler-Hösl und Anna Schrag
LOCATION:Dorfgemeinschaftshaus Euernbach
 Pfaffenhofener Str. 17
 85298 Euernbach
UID:a562247b6f1ea19415face83769d35ba-33270334542de3d4547cbd8ca0da32a4
PRIORITY:3
END:VEVENT
BEGIN:VEVENT
DTSTAMP:20230419T064435Z
DTSTART:20230423T150000Z
DTEND:20230423T150000Z
CATEGORIES:Vorträge
SUMMARY:Vortrags-Café Ökologie
DESCRIPTION:  | Einladung zum Vortrags-Café Ökologie |   |   | Sehr geehrte Damen und Herren, |   | die Klimaschutzmanagerin der Gemeinde Scheyern, Frau Kathrin Euringer, und der AK Ökologie des Pfarrgemeinderats laden herzlich ein zum |   | Vortrags-Café Ökologie |   | am Sonntag, 23. April um 15 Uhr im Pfarrzentrum Scheyern. |   | 15:00 Uhr Kaffee, Tee, Kuchen und Obst | 15:30 Uhr Vortrag „Der insektenfreundliche Garten“, Dr. Kathrin Euringer, Gemeinde Scheyern | 16:00 Uhr Vortrag „Der vogelfreundliche Garten“, Dorothee Bornemann, LBV Pfaffenhofen | 16:30 Uhr Vortrag „LBV-Plakette Vogelfreundlicher Garten“ Dorothee Bornemann, LBV Pfaffenhofen | Im Anschluss Austausch mit den Referentinnen, Büchertisch und „Pfaffenhofen summt“-Koffer. | Wir freuen uns auf einen geselligen, informativen und inspirierenden Nachmittag mit Ihnen! |   | Weitere Informationen finden Sie hier. | Ihr Arbeitskreis Ökologie des Pfarrgemeinderats Scheyern | in Zusammenarbeit mit der Kilmaschutzmanagerin der Gemeinde Scheyern |   |   |   | Mit freundlichen Grüßen |   | gez. |   | Kathrin Euringer | Klimaschutzmanagerin, Gemeinde Scheyern |   |   |  |  
LOCATION:Pfarrzentrum Scheyern
 Schyrenplatz 1
 85298 Scheyern
UID:e64e9cb94a2816fb910dbbc997422387-34c292d5578ac453b0e16a8cbc521a08
PRIORITY:3
END:VEVENT
BEGIN:VEVENT
DTSTAMP:20230411T080425Z
DTSTART:20230425T190000Z
DTEND:20230425T190000Z
CATEGORIES:Klimaschutz, Biodiversität und erneuerbare Energien
SUMMARY:Klimaschutz-Stammtisch Scheyern
DESCRIPTION:  | Einladung zum Klimaschutz-Stammtisch |   |   | Sehr geehrte Damen und Herren, |   | die Klimaschutzmanagerin der Gemeinde Scheyern, Frau Kathrin Euringer, lädt herzlich ein zum |   | Klimaschutz-Stammtisch Scheyern |   | am Dienstag, den 25. April um 19 Uhr im Dorfgemeinschaftshaus Euernbach. |  Das Klimaschutzkonzept unserer Gemeinde steht unter dem Motto „Unser-Scheyern - unsere Zukunft - unsere Verantwortung! Die Energiewende jetzt aktiv gestalten!“. |   | Letztes Jahr fanden unter diesem Motto mehrere Veranstaltungen in Scheyern statt, die bei den Bürgern sehr gut ankamen. Insbesondere der direkte Erfahrungs- und Informationsaustausch von Bürger zu Bürger, sei es zum Thema e-Auto oder Sanieren und die Diskussion aktueller Belange des Klimaschutzes in Scheyern und darüber hinaus mit interessierten Mitbürgern, fanden großen Anklang. |   | Ganz in diesem Sinne möchten wir nun einen regelmäßigen Klimaschutz-Stammtisch ins Leben rufen, der es ermöglicht voneinander zu lernen, sich auszutauschen und gemeinsam ins Handeln zu kommen: |   |  |  |  |  |  |  | Besprechung aktueller Themen des aktiven Klimaschutzes  | aktiver Austausch von Informationen für interessierte Bürger | Erfahrungsaustausch aus erster Hand ermöglichen | Entwicklung von Projekten und Veranstaltungen für Scheyern | Motivation stärken | neue Impulse für den Klimaschutz in Scheyern setzen |  |  |  |  |  |   | Alle Menschen mit Interesse für den Klimaschutz in und um Scheyern sind herzlich willkommen!Geplant ist ein zweimonatiger Turnus. |   | Wir freuen uns auf Ihr Kommen, |   | mit freundlichen Grüßen |   | gez. |   | Kathrin Euringer | Klimaschutzmanagerin, Gemeinde Scheyern |   |   |  |  
LOCATION:Dorfgemeinschaftshaus Euernbach
 Pfaffenhofener Str. 17
 85298 Scheyern
UID:ce85eb9edaf84d1df1e0e0d8eb17199b-62b7d3b7488beb2cb269f76a475add30
PRIORITY:3
END:VEVENT
END:VCALENDAR
