BEGIN:VCALENDAR
VERSION:1.0
PRODID:Open2CKalenderExportV11
BEGIN:VEVENT
DTSTAMP:20230607T055303Z
DTSTART:20230622T173000Z
DTEND:20230622T173000Z
CATEGORIES:Ausstellungen
SUMMARY:Vernissage: Querschnitt von Reiner Schlamp
DESCRIPTION:Am Donnerstag, 22.06.2023 findet um 17.30 Uhr die Vernissage zur Ausstellung |   | Querschnitt | Arbeiten | Reiner Schlamp |   | statt. |   | Alle Interessierte sind herzlich ins Rathaus eingeladen. |   | Die Bilder sind die nächsten Wochen noch während der Öffnungszeiten des Rathauses zu bewundern. |   |   | Organisator   Reiner Schlamp | Mitterscheyern
LOCATION:Rathaus Scheyern
 Ludwigstr. 2
 85298 Scheyern
UID:5be13734b430a3aee013638e1d5a20fd-dc519e66817d9144bc81f9bfc52aae87
PRIORITY:3
END:VEVENT
END:VCALENDAR
