BEGIN:VCALENDAR
VERSION:1.0
PRODID:Open2CKalenderExportV11
BEGIN:VEVENT
DTSTAMP:20230628T064534Z
DTSTART:20230710T140000Z
DTEND:20230710T140000Z
CATEGORIES:Senioren
SUMMARY:Seniorennachmittag
DESCRIPTION:Am Montag, den 10.07. treffen wir uns wieder um 14.00 Uhr im Pfarrzentrum in Scheyern. Wir werden miteinander Kaffee trinken und uns mit einem guten Stück Kuchen verwöhnen lassen. Es bleibt noch ausreichend Zeit, um miteinander ins Gespräch zu kommen.  |  
LOCATION:Pfarrzentrum Scheyern
UID:ccd6e81ed71a2d97400c55c9d1d458ba-20d8cf8c84263414b080cfbbde1b6d8c
PRIORITY:3
END:VEVENT
END:VCALENDAR
