BEGIN:VCALENDAR
VERSION:1.0
PRODID:Open2CKalenderExportV11
BEGIN:VEVENT
DTSTAMP:20230714T094954Z
DTSTART:20230725T180000Z
DTEND:20230725T180000Z
CATEGORIES:Sitzungen
SUMMARY:Sondersitzung des Gemeinderates
DESCRIPTION:  | Weitere Informationen erhalten Sie unter folgendem Link: | SessionNet | Bürortal (livingdata.de)gerinfop | Kontakt   Gemeindeverwaltung Scheyern
LOCATION:im Rathaus Scheyern, Ludwigstraße 2
UID:9d0dc36235657a291f5338a235a0dfb9-262aa5cdd54228378e979bcbb923bf6f
PRIORITY:3
END:VEVENT
END:VCALENDAR
