BEGIN:VCALENDAR
VERSION:1.0
PRODID:Open2CKalenderExportV11
BEGIN:VEVENT
DTSTAMP:20230914T111549Z
DTSTART:20230925T000000Z
DTEND:20230929T000000Z
CATEGORIES:Verschiedenes
SUMMARY:Ernte-Dank-Woche
DESCRIPTION:Interne Aktionswoche
LOCATION:
UID:2e2951120d6afe6cdb12662649a5e259-7b26e3a7dc77c92aa4f4ddf6dc79f316
PRIORITY:3
END:VEVENT
END:VCALENDAR
