BEGIN:VCALENDAR
VERSION:1.0
PRODID:Open2CKalenderExportV11
BEGIN:VEVENT
DTSTAMP:20230914T111932Z
DTSTART:20231018T000000Z
DTEND:20231018T000000Z
CATEGORIES:Verschiedenes
SUMMARY:Elternabend mit Elternbeiratswahl
DESCRIPTION:Einladung folgt!
LOCATION:Kinderkrippe Regenbogen
UID:f5fcc4bd8963414da490392d48c74d2d-6485840f48bfe7e24d19c476b82b9002
PRIORITY:3
END:VEVENT
END:VCALENDAR
