BEGIN:VCALENDAR
VERSION:1.0
PRODID:Open2CKalenderExportV11
BEGIN:VEVENT
DTSTAMP:20230914T112317Z
DTSTART:20231030T000000Z
DTEND:20231103T000000Z
CATEGORIES:Schließtage
SUMMARY:Schließtage vom 30.10 - 03.11.2023
DESCRIPTION:Montag, 30.Oktober - Teamtag | Dienstag, 31. Oktober - Fortbildung  | 01. November - 03. November (Schließtag)  |   | Die Einrichtung bleibt geschlossen! |   |  
LOCATION:
UID:50d0332013e618fc1985d17caa504d32-408b7a0a7dede0a3497aed7fb8c39dc3
PRIORITY:3
END:VEVENT
BEGIN:VEVENT
DTSTAMP:20230914T112521Z
DTSTART:20231110T000000Z
DTEND:20231110T000000Z
CATEGORIES:Verschiedenes
SUMMARY:St. Martinsfeier
DESCRIPTION:Einladung folgt!
LOCATION:
UID:305d6cd47c0673bb4b5b0b8354310b65-35e7de80743f2c8b811476ce18650eee
PRIORITY:3
END:VEVENT
END:VCALENDAR
