BEGIN:VCALENDAR
VERSION:1.0
PRODID:Open2CKalenderExportV11
BEGIN:VEVENT
DTSTAMP:20230914T112826Z
DTSTART:20231206T000000Z
DTEND:20231206T000000Z
CATEGORIES:Verschiedenes
SUMMARY:Nikolausfeier
DESCRIPTION:Krippeninterne Feier 
LOCATION:
UID:9dbd7277dfea2d89506713d239bfa547-fe20da380c28233d190d09b6d3581436
PRIORITY:3
END:VEVENT
END:VCALENDAR
