BEGIN:VCALENDAR
VERSION:1.0
PRODID:Open2CKalenderExportV11
BEGIN:VEVENT
DTSTAMP:20230914T113354Z
DTSTART:20231225T000000Z
DTEND:20240105T000000Z
CATEGORIES:Schließtage
SUMMARY:Weihnachtsferien
DESCRIPTION:Die Einrichtung bleibt geschlossen! Am 22.12.23 schließen wir um 12 Uhr. Es wird kein Mittagessen angeboten!
LOCATION:
UID:be8c68b57f9adedfefdce18d963fcb76-eef04b45fcdcbec56358019be23b28d5
PRIORITY:3
END:VEVENT
END:VCALENDAR
