BEGIN:VCALENDAR
VERSION:1.0
PRODID:Open2CKalenderExportV11
BEGIN:VEVENT
DTSTAMP:20231227T104323Z
DTSTART:20240131T160000Z
DTEND:20240131T160000Z
CATEGORIES:Sitzungen
SUMMARY:Sitzung des Haupt- und Finanzausschusses
DESCRIPTION:  | Weitere Informationen erhalten Sie unter folgendem Link: | SessionNet | Bürortal (livingdata.de)gerinfop | Kontakt   Gemeindeverwaltung Scheyern
LOCATION:im Rathaus Scheyern, Ludwigstraße 2
UID:c9385e2872a26f890110fad63a0b24c6-182905d1ce1e8b78b3596669f5f06eb1
PRIORITY:3
END:VEVENT
END:VCALENDAR
