BEGIN:VCALENDAR
VERSION:1.0
PRODID:Open2CKalenderExportV11
BEGIN:VEVENT
DTSTAMP:20240108T141004Z
DTSTART:20240312T193000Z
DTEND:20240312T193000Z
CATEGORIES:Sitzungen
SUMMARY:Sitzung des Gemeinderates
DESCRIPTION:  | Weitere Informationen erhalten Sie unter folgendem Link: | SessionNet | Bürortal (livingdata.de)gerinfop | Kontakt   Gemeindeverwaltung Scheyern
LOCATION:im Rathaus Scheyern, Ludwigstraße 2
UID:343ba24386dc44d34892cb14dc1e760d-72334f7a6f6b85699c148dccdd488d0d
PRIORITY:3
END:VEVENT
BEGIN:VEVENT
DTSTAMP:20240109T070636Z
DTSTART:20240318T160000Z
DTEND:20240318T160000Z
CATEGORIES:Sitzungen
SUMMARY:Sitzung des Werk- und Vergabeausschusses
DESCRIPTION:  | Weitere Informationen erhalten Sie unter folgendem Link: | SessionNet | Bürgerinfoportal (livingdata.de) | Kontakt   Gemeindeverwaltung Scheyern
LOCATION:im Rathaus Scheyern, Ludwigstraße 2
UID:7e477c65928ab6511ce30705897db304-963b13e54de46f0f8b12a8f871d14c3b
PRIORITY:3
END:VEVENT
END:VCALENDAR
