BEGIN:VCALENDAR
VERSION:1.0
PRODID:Open2CKalenderExportV11
BEGIN:VEVENT
DTSTAMP:20240108T143937Z
DTSTART:20240409T193000Z
DTEND:20240409T193000Z
CATEGORIES:Sitzungen
SUMMARY:Sitzung des Gemeinderates
DESCRIPTION:  | Weitere Informationen erhalten Sie unter folgendem Link: | SessionNet | Bürortal (livingdata.de)gerinfop | Kontakt   Gemeindeverwaltung Scheyern
LOCATION:im Rathaus Scheyern, Ludwigstraße 2
UID:5bb9bf1b7a4ccabf10913903f4760900-72334f7a6f6b85699c148dccdd488d0d
PRIORITY:3
END:VEVENT
END:VCALENDAR
