BEGIN:VCALENDAR
VERSION:1.0
PRODID:Open2CKalenderExportV11
BEGIN:VEVENT
DTSTAMP:20240108T143937Z
DTSTART:20240409T193000Z
DTEND:20240409T193000Z
CATEGORIES:Sitzungen
SUMMARY:Sitzung des Gemeinderates
DESCRIPTION:  | Weitere Informationen erhalten Sie unter folgendem Link: | SessionNet | Bürortal (livingdata.de)gerinfop | Kontakt   Gemeindeverwaltung Scheyern
LOCATION:im Rathaus Scheyern, Ludwigstraße 2
UID:5bb9bf1b7a4ccabf10913903f4760900-72334f7a6f6b85699c148dccdd488d0d
PRIORITY:3
END:VEVENT
BEGIN:VEVENT
DTSTAMP:20240109T070750Z
DTSTART:20240422T160000Z
DTEND:20240422T160000Z
CATEGORIES:Sitzungen
SUMMARY:Sitzung des Werk- und Vergabeausschusses
DESCRIPTION:  | Weitere Informationen erhalten Sie unter folgendem Link: | SessionNet | Bürgerinfoportal (livingdata.de) | Kontakt   Gemeindeverwaltung Scheyern
LOCATION:im Rathaus Scheyern, Ludwigstraße 2
UID:2802fe79415e419cee3815ebe29660c4-963b13e54de46f0f8b12a8f871d14c3b
PRIORITY:3
END:VEVENT
BEGIN:VEVENT
DTSTAMP:20240109T065345Z
DTSTART:20240430T160000Z
DTEND:20240430T160000Z
CATEGORIES:Sitzungen
SUMMARY:Sitzung des Bau- und Umweltausschusses
DESCRIPTION:  | Weitere Informationen erhalten Sie unter folgendem Link: | SessionNet | Bürortal (livingdata.de)gerinfop | Kontakt   Gemeindeverwaltung Scheyern
LOCATION:im Rathaus Scheyern, Ludwigstraße 2
UID:1646873738e550770e082e991e200dec-d9114291edccf4718452fc3097514517
PRIORITY:3
END:VEVENT
END:VCALENDAR
