BEGIN:VCALENDAR
VERSION:1.0
PRODID:Open2CKalenderExportV11
BEGIN:VEVENT
DTSTAMP:20240108T144155Z
DTSTART:20240507T193000Z
DTEND:20240507T193000Z
CATEGORIES:Sitzungen
SUMMARY:Sitzung des Gemeinderates
DESCRIPTION:  | Weitere Informationen erhalten Sie unter folgendem Link: | SessionNet | Bürortal (livingdata.de)gerinfop | Kontakt   Gemeindeverwaltung Scheyern
LOCATION:im Rathaus Scheyern, Ludwigstraße 2
UID:86556257b1e06a31567388c2fc6f2007-72334f7a6f6b85699c148dccdd488d0d
PRIORITY:3
END:VEVENT
BEGIN:VEVENT
DTSTAMP:20240109T070835Z
DTSTART:20240513T160000Z
DTEND:20240513T160000Z
CATEGORIES:Sitzungen
SUMMARY:Sitzung des Werk- und Vergabeausschusses
DESCRIPTION:  | Weitere Informationen erhalten Sie unter folgendem Link: | SessionNet | Bürgerinfoportal (livingdata.de) | Kontakt   Gemeindeverwaltung Scheyern
LOCATION:im Rathaus Scheyern, Ludwigstraße 2
UID:eb024071ca4c52f2f9170a62dac89910-963b13e54de46f0f8b12a8f871d14c3b
PRIORITY:3
END:VEVENT
BEGIN:VEVENT
DTSTAMP:20240109T065458Z
DTSTART:20240514T160000Z
DTEND:20240514T160000Z
CATEGORIES:Sitzungen
SUMMARY:Sitzung des Bau- und Umweltausschusses
DESCRIPTION:  | Weitere Informationen erhalten Sie unter folgendem Link: | SessionNet | Bürortal (livingdata.de)gerinfop | Kontakt   Gemeindeverwaltung Scheyern
LOCATION:im Rathaus Scheyern, Ludwigstraße 2
UID:b895924536486a3e69d279f2bbc88b7c-d9114291edccf4718452fc3097514517
PRIORITY:3
END:VEVENT
END:VCALENDAR
