BEGIN:VCALENDAR
VERSION:1.0
PRODID:Open2CKalenderExportV11
BEGIN:VEVENT
DTSTAMP:20240108T144445Z
DTSTART:20240709T193000Z
DTEND:20240709T193000Z
CATEGORIES:Sitzungen
SUMMARY:Sitzung des Gemeinderates
DESCRIPTION:  | Weitere Informationen erhalten Sie unter folgendem Link: | SessionNet | Bürortal (livingdata.de)gerinfop | Kontakt   Gemeindeverwaltung Scheyern
LOCATION:im Rathaus Scheyern, Ludwigstraße 2
UID:183ec1d675726256e71040ceee96bfa2-72334f7a6f6b85699c148dccdd488d0d
PRIORITY:3
END:VEVENT
BEGIN:VEVENT
DTSTAMP:20240109T071124Z
DTSTART:20240722T160000Z
DTEND:20240722T160000Z
CATEGORIES:Sitzungen
SUMMARY:Sitzung des Werk- und Vergabeausschusses
DESCRIPTION:  | Weitere Informationen erhalten Sie unter folgendem Link: | SessionNet | Bürgerinfoportal (livingdata.de) | Kontakt   Gemeindeverwaltung Scheyern
LOCATION:im Rathaus Scheyern, Ludwigstraße 2
UID:a37af185342c7a6590ff89242b8a5224-963b13e54de46f0f8b12a8f871d14c3b
PRIORITY:3
END:VEVENT
BEGIN:VEVENT
DTSTAMP:20240109T065723Z
DTSTART:20240723T160000Z
DTEND:20240723T160000Z
CATEGORIES:Sitzungen
SUMMARY:Sitzung des Bau- und Umweltausschusses
DESCRIPTION:  | Weitere Informationen erhalten Sie unter folgendem Link: | SessionNet | Bürortal (livingdata.de)gerinfop | Kontakt   Gemeindeverwaltung Scheyern
LOCATION:im Rathaus Scheyern, Ludwigstraße 2
UID:e05ff7dd22413a4fc2f542b84eff463c-d9114291edccf4718452fc3097514517
PRIORITY:3
END:VEVENT
END:VCALENDAR
