BEGIN:VCALENDAR
VERSION:1.0
PRODID:Open2CKalenderExportV11
BEGIN:VEVENT
DTSTAMP:20240829T084427Z
DTSTART:20240910T193000Z
DTEND:20240910T193000Z
CATEGORIES:Sitzungen
SUMMARY:Sitzung des Gemeinderates
DESCRIPTION:  | Weitere Informationen erhalten Sie unter folgendem Link: | SessionNet | Bürgerportal | Kontakt   Gemeindeverwaltung Scheyern
LOCATION:im "alten" Rathaus Scheyern, Ludwigstraße 2
UID:6334df0f8d72249f9a771a017b35688f-7d459687f9da8fc79985f597e501cfcf
PRIORITY:3
END:VEVENT
BEGIN:VEVENT
DTSTAMP:20240829T084318Z
DTSTART:20240923T160000Z
DTEND:20240923T160000Z
CATEGORIES:Sitzungen
SUMMARY:Sitzung des Werk- und Vergabeausschusses
DESCRIPTION:  | Weitere Informationen erhalten Sie unter folgendem Link: | SessionNet | Bürgerportal |   | Kontakt   Gemeindeverwaltung Scheyern
LOCATION:im Rathaus Scheyern, Rathausplatz 1
UID:d9b13c6e01487a3f734777806b21e9b4-fb5fa03622eca08c71de1b9242765f75
PRIORITY:3
END:VEVENT
BEGIN:VEVENT
DTSTAMP:20240829T084411Z
DTSTART:20240924T160000Z
DTEND:20240924T160000Z
CATEGORIES:Sitzungen
SUMMARY:Sitzung des Bau- und Umweltausschusses
DESCRIPTION:  | Weitere Informationen erhalten Sie unter folgendem Link: | SessionNet | Bürgerportal | Kontakt   Gemeindeverwaltung Scheyern
LOCATION:im Rathaus Scheyern, Rathausplatz 1
UID:66f517c772f4855107d70dc8f44aa7c2-2156ad57960b2e69ab15e8dbd7cdf6e2
PRIORITY:3
END:VEVENT
END:VCALENDAR
