BEGIN:VCALENDAR
VERSION:1.0
PRODID:Open2CKalenderExportV11
BEGIN:VEVENT
DTSTAMP:20240923T073942Z
DTSTART:20241008T193000Z
DTEND:20241008T193000Z
CATEGORIES:Sitzungen
SUMMARY:Sitzung des Gemeinderates
DESCRIPTION:  | Weitere Informationen erhalten Sie unter folgendem Link: | SessionNet | Bürgerportal | Kontakt   Gemeindeverwaltung Scheyern
LOCATION:im neuen Bürgersaal, Rathausplatz 2 (2. OG)
UID:8be96f02a4239912dc5752c991905472-7d459687f9da8fc79985f597e501cfcf
PRIORITY:3
END:VEVENT
BEGIN:VEVENT
DTSTAMP:20241011T072832Z
DTSTART:20241014T160000Z
DTEND:20241014T160000Z
CATEGORIES:Sitzungen
SUMMARY:Sitzung des Werk- und Vergabeausschusses
DESCRIPTION:  | Weitere Informationen erhalten Sie unter folgendem Link: | SessionNet | Bürgerportal | Kontakt   Gemeindeverwaltung Scheyern
LOCATION:im neuen Bürgersaal 2.OG Rathausplatz 2
UID:2144e85149e4526f7d7fa3395a49408a-51fd578a5d58bfb4cad12ca8f6829bbd
PRIORITY:3
END:VEVENT
BEGIN:VEVENT
DTSTAMP:20241011T072929Z
DTSTART:20241022T160000Z
DTEND:20241022T160000Z
CATEGORIES:Sitzungen
SUMMARY:Sitzung des Bau- und Umweltausschusses
DESCRIPTION:  | Weitere Informationen erhalten Sie unter folgendem Link: | SessionNet | Bürgerportal | Kontakt   Gemeindeverwaltung Scheyern
LOCATION:im neuen Bürgersaal 2.OG Rathausplatz 2
UID:ffe30ee8c9164597b5a6347c9403b4c6-2156ad57960b2e69ab15e8dbd7cdf6e2
PRIORITY:3
END:VEVENT
END:VCALENDAR
