BEGIN:VCALENDAR
VERSION:1.0
PRODID:Open2CKalenderExportV11
BEGIN:VEVENT
DTSTAMP:20240930T072604Z
DTSTART:20241112T193000Z
DTEND:20241112T193000Z
CATEGORIES:Sitzungen
SUMMARY:Sitzung des Gemeinderates
DESCRIPTION:  | Weitere Informationen erhalten Sie unter folgendem Link: | SessionNet | Bürgerportal | Kontakt   Gemeindeverwaltung Scheyern
LOCATION:im neuen Bürgersaal  2.OG Rathausplatz 2
UID:c8bd0e06556ba49676cdae2fabf03473-7d459687f9da8fc79985f597e501cfcf
PRIORITY:3
END:VEVENT
BEGIN:VEVENT
DTSTAMP:20241030T110110Z
DTSTART:20241120T160000Z
DTEND:20241120T160000Z
CATEGORIES:Sitzungen
SUMMARY:Sitzung des Haupt- und Finanzausschusses
DESCRIPTION:  | Weitere Informationen erhalten Sie unter folgendem Link: | SessionNet | Bürgerportal | Kontakt   Gemeindeverwaltung Scheyern
LOCATION:im neuen Bürgersaal, Rathausplatz 2 (2. OG)
UID:25ee820dbb1bde80c46c84c40120dcf3-aef312b59b51b8f7468a65ed1c7d6c27
PRIORITY:3
END:VEVENT
BEGIN:VEVENT
DTSTAMP:20241011T072818Z
DTSTART:20241125T160000Z
DTEND:20241125T160000Z
CATEGORIES:Sitzungen
SUMMARY:Sitzung des Werk- und Vergabeausschusses
DESCRIPTION:  | Weitere Informationen erhalten Sie unter folgendem Link: | SessionNet | Bürgerportal | Kontakt   Gemeindeverwaltung Scheyern
LOCATION:im neuen Bürgersaal 2.OG Rathausplatz 2
UID:db7b4583ba2efbdfb87d83f63a675c60-51fd578a5d58bfb4cad12ca8f6829bbd
PRIORITY:3
END:VEVENT
BEGIN:VEVENT
DTSTAMP:20241011T072916Z
DTSTART:20241126T160000Z
DTEND:20241126T160000Z
CATEGORIES:Sitzungen
SUMMARY:Sitzung des Bau- und Umweltausschusses
DESCRIPTION:  | Weitere Informationen erhalten Sie unter folgendem Link: | SessionNet | Bürgerportal | Kontakt   Gemeindeverwaltung Scheyern
LOCATION:im neuen Bürgersaal 2.OG Rathausplatz 2
UID:c72e03ca8ac006511c7f63ffc2f54a14-2156ad57960b2e69ab15e8dbd7cdf6e2
PRIORITY:3
END:VEVENT
END:VCALENDAR
