BEGIN:VCALENDAR
VERSION:1.0
PRODID:Open2CKalenderExportV11
BEGIN:VEVENT
DTSTAMP:20240109T065552Z
DTSTART:20240625T160000Z
DTEND:20240625T160000Z
CATEGORIES:Sitzungen
SUMMARY:Sitzung des Bau- und Umweltausschusses
DESCRIPTION:  | Weitere Informationen erhalten Sie unter folgendem Link: | SessionNet | Bürortal (livingdata.de)gerinfop | Kontakt   Gemeindeverwaltung Scheyern
LOCATION:im Rathaus Scheyern, Ludwigstraße 2
UID:65ec3cfeeb3b2a83fa5e7ad700c1ac32-d9114291edccf4718452fc3097514517
PRIORITY:3
END:VEVENT
END:VCALENDAR
