BEGIN:VCALENDAR
VERSION:1.0
PRODID:Open2CKalenderExportV11
BEGIN:VEVENT
DTSTAMP:20240829T084411Z
DTSTART:20240924T160000Z
DTEND:20240924T160000Z
CATEGORIES:Sitzungen
SUMMARY:Sitzung des Bau- und Umweltausschusses
DESCRIPTION:  | Weitere Informationen erhalten Sie unter folgendem Link: | SessionNet | Bürgerportal | Kontakt   Gemeindeverwaltung Scheyern
LOCATION:im Rathaus Scheyern, Rathausplatz 1
UID:66f517c772f4855107d70dc8f44aa7c2-2156ad57960b2e69ab15e8dbd7cdf6e2
PRIORITY:3
END:VEVENT
END:VCALENDAR
