BEGIN:VCALENDAR
VERSION:1.0
PRODID:Open2CKalenderExportV11
BEGIN:VEVENT
DTSTAMP:20240109T070945Z
DTSTART:20240624T160000Z
DTEND:20240624T160000Z
CATEGORIES:Sitzungen
SUMMARY:Sitzung des Werk- und Vergabeausschusses
DESCRIPTION:  | Weitere Informationen erhalten Sie unter folgendem Link: | SessionNet | Bürgerinfoportal (livingdata.de) | Kontakt   Gemeindeverwaltung Scheyern
LOCATION:im Rathaus Scheyern, Ludwigstraße 2
UID:bbb1e868cb454d07526fae6571f5fb3f-963b13e54de46f0f8b12a8f871d14c3b
PRIORITY:3
END:VEVENT
END:VCALENDAR
