BEGIN:VCALENDAR
VERSION:1.0
PRODID:Open2CKalenderExportV11
BEGIN:VEVENT
DTSTAMP:20241011T072818Z
DTSTART:20241125T160000Z
DTEND:20241125T160000Z
CATEGORIES:Sitzungen
SUMMARY:Sitzung des Werk- und Vergabeausschusses
DESCRIPTION:  | Weitere Informationen erhalten Sie unter folgendem Link: | SessionNet | Bürgerportal | Kontakt   Gemeindeverwaltung Scheyern
LOCATION:im neuen Bürgersaal 2.OG Rathausplatz 2
UID:db7b4583ba2efbdfb87d83f63a675c60-51fd578a5d58bfb4cad12ca8f6829bbd
PRIORITY:3
END:VEVENT
END:VCALENDAR
