BEGIN:VCALENDAR
VERSION:1.0
PRODID:Open2CKalenderExportV11
BEGIN:VEVENT
DTSTAMP:20240208T125718Z
DTSTART:20240214T160000Z
DTEND:20240214T160000Z
CATEGORIES:Sitzungen
SUMMARY:Sitzung des Werk- und Vergabeausschusses
DESCRIPTION:  | Weitere Informationen erhalten Sie unter folgendem Link: | SessionNet | Bürgerinfoportal (livingdata.de) | Kontakt   Gemeindeverwaltung Scheyern
LOCATION:Neue Ortsmitte
 Rathausplatz 1
 85298 Scheyern
UID:ec32177901b2ff17d724c987b480b17f-963b13e54de46f0f8b12a8f871d14c3b
PRIORITY:3
END:VEVENT
BEGIN:VEVENT
DTSTAMP:20240108T140525Z
DTSTART:20240220T193000Z
DTEND:20240220T193000Z
CATEGORIES:Sitzungen
SUMMARY:Sitzung des Gemeinderates
DESCRIPTION:  | Weitere Informationen erhalten Sie unter folgendem Link: | SessionNet | Bürortal (livingdata.de)gerinfop | Kontakt   Gemeindeverwaltung Scheyern
LOCATION:im Rathaus Scheyern, Ludwigstraße 2
UID:f6eb3f1562a3e2be95092c0fcebc91b6-72334f7a6f6b85699c148dccdd488d0d
PRIORITY:3
END:VEVENT
BEGIN:VEVENT
DTSTAMP:20240109T065022Z
DTSTART:20240227T160000Z
DTEND:20240227T160000Z
CATEGORIES:Sitzungen
SUMMARY:Sitzung des Bau- und Umweltausschusses
DESCRIPTION:  | Weitere Informationen erhalten Sie unter folgendem Link: | SessionNet | Bürortal (livingdata.de)gerinfop | Kontakt   Gemeindeverwaltung Scheyern
LOCATION:im Rathaus Scheyern, Ludwigstraße 2
UID:e38bec03aa8cc95c406c6dc50faf0508-d9114291edccf4718452fc3097514517
PRIORITY:3
END:VEVENT
BEGIN:VEVENT
DTSTAMP:20240109T064630Z
DTSTART:20240228T160000Z
DTEND:20240228T160000Z
CATEGORIES:Sitzungen
SUMMARY:Sitzung des Haupt- und Finanzausschusses
DESCRIPTION:  | Weitere Informationen erhalten Sie unter folgendem Link: | SessionNet | Bürortal (livingdata.de)gerinfop | Kontakt   Gemeindeverwaltung Scheyern
LOCATION:im Rathaus Scheyern, Ludwigstraße 2
UID:e530014445b1b7fd6b4ec971f78c9e97-182905d1ce1e8b78b3596669f5f06eb1
PRIORITY:3
END:VEVENT
END:VCALENDAR
