BEGIN:VCALENDAR
VERSION:1.0
PRODID:Open2CKalenderExportV11
BEGIN:VEVENT
DTSTAMP:20240208T141211Z
DTSTART:20240323T140000Z
DTEND:20240323T170000Z
CATEGORIES:Wanderungen
SUMMARY:Wanderung am Planetenweg
DESCRIPTION:  | Leitung: Dr. Hans Kern, Dr. Susanne Friedrich, Dr. Peter Friedrich und Wilfried Langer | Anmeldung: Christine Rist, KAB Pfaffenhofen, Tel: 0176/55425917 | Organisator   Kloster Scheyern
LOCATION:Planetenweg am Prielhof Scheyern
UID:45638863cd0ea4c4e860522b0aebb937-6bfdb360cb576a63b61d70d5d349711e
PRIORITY:3
END:VEVENT
END:VCALENDAR
