BEGIN:VCALENDAR
VERSION:1.0
PRODID:Open2CKalenderExportV11
BEGIN:VEVENT
DTSTAMP:20240208T141618Z
DTSTART:20240329T180000Z
DTEND:20240329T180000Z
CATEGORIES:Kirche
SUMMARY:900+ „KLANG UND LITURGIE“ – DER GALILÄER
DESCRIPTION:  | Karfreitag | 29. März 2024 | 18.00 Uhr (Basilika) | Stummfilm „Der Galiläer“, untermalt mit Orgelimprovisationen des renommierten Konzertorganist Paolo Oreni. |   | Quelle: Kloster Scheyern | Organisator   Kloster Scheyern
LOCATION:Basilika Scheyern
UID:c3d87a8c6f622618f7d1f62342fe22a6-28483933abcc051d46f8a84692ca0baa
PRIORITY:3
END:VEVENT
END:VCALENDAR
