BEGIN:VCALENDAR
VERSION:1.0
PRODID:Open2CKalenderExportV11
BEGIN:VEVENT
DTSTAMP:20240410T113740Z
DTSTART:20240501T000000Z
DTEND:20240501T000000Z
CATEGORIES:Vereine
SUMMARY:Maibaumaufstellen
DESCRIPTION:Dieses Jahr findet das Maibaumaufstellen zum ersten Mal am neuen Standort (Neue Ortsmitte) mit feierlicher Umrahmung statt . |   |   |  |   | Organisator   Heimatkreis Scheyern
LOCATION:Rathausplatz 1
 85298 Scheyern
UID:62793ef2fccd6e32def3d4cd26d799db-c0c104a56f86332d0230dc8c30fc4983
PRIORITY:3
END:VEVENT
END:VCALENDAR
