BEGIN:VCALENDAR
VERSION:1.0
PRODID:Open2CKalenderExportV11
BEGIN:VEVENT
DTSTAMP:20240301T114411Z
DTSTART:20240313T190000Z
DTEND:20240313T190000Z
CATEGORIES:Sitzungen
SUMMARY:Treffen des Arbeitskreis Energie-Team
DESCRIPTION:  | Einladung an alle interessierten Bürgerinnen und Bürger ins offene, neu gegründete Energie-Team. | Organisator   Gemeinde Scheyern | Kontakt   Vorzimmer Bürgermeister | 08441/8064-32
LOCATION:Sitzungssaal des Rathauses Scheyern
 Ludwigstr. 2
 85298 Scheyern
UID:a1b5ccf3d7fc9f8800ad5e3ec384449e-ce6c70d1b4d434c8fec153d34799a6eb
PRIORITY:3
END:VEVENT
END:VCALENDAR
