BEGIN:VCALENDAR
VERSION:1.0
PRODID:Open2CKalenderExportV11
BEGIN:VEVENT
DTSTAMP:20240516T082405Z
DTSTART:20240523T090000Z
DTEND:20240523T110000Z
CATEGORIES:Kinder
SUMMARY:Einladung zum Sommerfest der Eltern-Kind-Gruppen Scheyern und Euernbach
DESCRIPTION:  |   |  | Organisator   Eltern-Kind-Gruppen Scheyern und Euernbach
LOCATION:Pfarrgarten und Pfarrsaal Scheyern
UID:ddba169fbdba6563d74836398d17bb6c-db07c3c996ebbcadaa82157830b678f4
PRIORITY:3
END:VEVENT
END:VCALENDAR
