BEGIN:VCALENDAR
VERSION:1.0
PRODID:Open2CKalenderExportV11
BEGIN:VEVENT
DTSTAMP:20240516T122633Z
DTSTART:20240526T100000Z
DTEND:20240526T100000Z
CATEGORIES:Ausstellungen
SUMMARY:4. Grünlandtag mit großem Schlütertreffen
DESCRIPTION:  |  |   |  
LOCATION:Familie Wolf
 Vogelried 1
 85298 Scheyern
UID:d242bd3e906663020943db74cc75e242-aa15056c7973eeea75b1bd33731c99d7
PRIORITY:3
END:VEVENT
END:VCALENDAR
