BEGIN:VCALENDAR
VERSION:1.0
PRODID:Open2CKalenderExportV11
BEGIN:VEVENT
DTSTAMP:20240709T074305Z
DTSTART:20240720T000000Z
DTEND:20240720T000000Z
CATEGORIES:Weinfest
SUMMARY:Weinfest der Scheyrer Vereine
DESCRIPTION: |   | Weinfest der Scheyerer Vereine | Die neue Dorfmitte ist seit einigen Wochen fertig und gibt nun ortsansässigen Vereinen die Möglichkeit, an diesem idealen Platz das „1. Scheyerer Weinfest“ zu veranstalten. Es findet bei schönem Wetter am Samstag, den 20.07.2024 beim neuen Rathaus in Scheyern statt. Veranstalter sind Feuerwehr, Schützen- und Imkerverein. Neben Bioweinen aus Österreich gibt es auch eine Auswahl an Pfälzer Weinen. Dazu werden Steckerlfisch, Quiche, Flammkuchen, Steaksemmeln, Schweinswürstl, und Käse angeboten. Süßspeisen, Kuchen, Eis und Pfannkuchen bietet das  Bistro Marienkäfer. Beginn ab 17:00 Uhr. Es spielt die Pfaffenhofener Dixigruppe „Tiny Bubbles Jazz Band“. Die Veranstalter freuen sich auf einen schönen Abend und regen Besuch. Für die Kleinen gibt es zwei Hüpfburgen und die Größeren können Ihr Geschick beim Biertraglklettern unter Beweis stellen. |   | Organisator   die Scheyerer Vereine
LOCATION:Rathausplatz 1 + 2
 85298 Scheyern
UID:48ffa795bdc0af20bd79ea11faae2a5b-b8a97f72852e69d1e1c35551b27f246a
PRIORITY:3
END:VEVENT
END:VCALENDAR
