BEGIN:VCALENDAR
VERSION:1.0
PRODID:Open2CKalenderExportV11
BEGIN:VEVENT
DTSTAMP:20240524T090058Z
DTSTART:20240609T110000Z
DTEND:20240609T190000Z
CATEGORIES:Verschiedenes
SUMMARY:Neueröffnung Café Marienkäfer
DESCRIPTION:
LOCATION:Rathausplatz 2
 85298 Scheyern
UID:d181e739027863c4a6f774cb98650c80-43a924c1718526194d06f8302f90156e
PRIORITY:3
END:VEVENT
END:VCALENDAR
