BEGIN:VCALENDAR
VERSION:1.0
PRODID:Open2CKalenderExportV11
BEGIN:VEVENT
DTSTAMP:20240622T035828Z
DTSTART:20240627T180000Z
DTEND:20240627T180000Z
CATEGORIES:Verschiedenes
SUMMARY:Stammtisch Pflege und Betreuung
DESCRIPTION:Der Stammtisch Pflege und Betreuung findet monatlich statt und gastiert im Juni und Juli 2024 in Scheyern.  |   | Herzlich Willkommen sind alle, die sich über Pflege und Betreuung austauschen wollen. Angehörige, Alltagsbegleiter, potentielle Interessierte, Pflege bzw. Betreuungskräfte...... Ein Erfahrungsaustausch mit Fragen und Antworten mit der Leitung Christine Rist vom Zentrum für Berufs- und Familienförderung (ZBF / Aktion Lebensfreude). |   | Auf einen interessanten und geselligen Abend freuen sich Christine Rist und Gisela Wörl (Seniorenbeauftrage der Gemeinde Scheyern).  |   | Für die Tischreservierung im neuen Café Marienkäfer wird um Anmeldung gebeten unter vorzimmer@scheyern.de  | Besten Dank im Voraus.  |   |   | Organisator   Christine Rist, ZBF / Aktion Lebensfreude und | Gisela Wörl, Senionrenbeauftragte der Gemeinde Scheyern | Kontakt   Christine Rist | Tel. 0176/55425917
LOCATION:Café Marienkäfer 
 Rathausplatz 2
 85298 Scheyern
UID:8d33d247ac142985fce34a0c9bf8786f-d181bbce2ef2914f75fd397383cb5fd8
PRIORITY:3
END:VEVENT
END:VCALENDAR
