BEGIN:VCALENDAR
VERSION:1.0
PRODID:Open2CKalenderExportV11
BEGIN:VEVENT
DTSTAMP:20240702T142207Z
DTSTART:20241015T190000Z
DTEND:20241015T190000Z
CATEGORIES:Vorträge
SUMMARY:Klimaschutz-Stammtisch
DESCRIPTION:Liebe Klimaschutz-Freunde, |   | am Dienstag, 15. Oktober 2024 um 19 Uhr geht der Klimaschutz-Stammtisch in die Fortsetzung. |   | Im neuen renovierten Bürgersaal überhalb des Café Marienkäfers findet ein Vortrag des Energieberaters Herrn Gerhard Henselmann über die "Energieeinsparoptionen und Sanierungsempfehlungen" statt. |   | Alle interessierten Bürgerinnen und Bürger auch weit über die Gemeindegrenzen sind hierzu herzlich willkommen. |   | Für Fragen steht Ihnen Frau Elisabeth Kreitmeyer, Vorzimmer Bürgermeister gerne zur Verfügung. |   |   | Organisator   Gemeinde Scheyern | Kontakt   Elisabeth Kreitmeyer | Tel. 08441/806432 | Email: vorzimmer@scheyern.de
LOCATION:Bürgersaal
 Rathausplatz 2
 85298 Scheyern
UID:90e2895599320b302334e9fa7c20b499-efe70d2f266a1136bd6e7c38d9dc2b1e
PRIORITY:3
END:VEVENT
END:VCALENDAR
