BEGIN:VCALENDAR
VERSION:1.0
PRODID:Open2CKalenderExportV11
BEGIN:VEVENT
DTSTAMP:20240917T084401Z
DTSTART:20241023T180000Z
DTEND:20241023T180000Z
CATEGORIES:Verschiedenes
SUMMARY:Watt-Turnier
DESCRIPTION: |   |   | Organisator   Die Löwen Scheyern
LOCATION:Vereinsheim
 Hochstr. 19 d
 85298 Scheyern
UID:a118b63550c049a6b974fe1aae0b5483-5fc3a33e70c290e74b94c574257b0141
PRIORITY:3
END:VEVENT
END:VCALENDAR
