BEGIN:VCALENDAR
VERSION:1.0
PRODID:Open2CKalenderExportV11
BEGIN:VEVENT
DTSTAMP:20241002T140546Z
DTSTART:20241121T190000Z
DTEND:20241121T190000Z
CATEGORIES:Bürgerinformationsveranstaltung
SUMMARY:Bürgerversammlung
DESCRIPTION:Zu unserer Bürgerversammlung am |   | Donnerstag, 21. November 2024 um 19 Uhr |   | sind alle Bürgerinnen und Bürger herzlich in der Klosterschenke (Schyren-Saal) willkommen. |   |   | Folgende Themen werden behandelt: | 1. Rückblick des 1. Bürgermeisters Manfred Sterz auf das Jahr 2024 | 2. Vorschau auf das Jahr 2025 | 3. Verbesserungsbeiträge Kläranlage Pfaffenhofen | 4. Wünsche und Anträge |   | Schriftliche Anfragen werden erbeten an die Gemeinde Scheyern, | Rathausplatz 1, 85298 Scheyern, per E-Mail an vorzimmer@scheyern.de |   |   |   |   | Organisator   Gemeinde Scheyern | Kontakt   vorzimmer@scheyern.de
LOCATION:Klosterschenke Scheyern
 Schyren-Saal
 Schyrenplatz 1
 85298 Scheyern
UID:efa15f29708e922f70b4778ac5b53bf0-746d56460217f9df8da40df56f03722e
PRIORITY:3
END:VEVENT
END:VCALENDAR
