BEGIN:VCALENDAR
VERSION:1.0
PRODID:Open2CKalenderExportV11
BEGIN:VEVENT
DTSTAMP:20250110T102055Z
DTSTART:20251124T160000Z
DTEND:20251124T160000Z
CATEGORIES:Sitzungen
SUMMARY:Sitzung des Werk- und Vergabeausschusses
DESCRIPTION:  | Weitere Informationen erhalten Sie unter folgendem Link: | SessionNet | Bürgerportal | Kontakt   Gemeindeverwaltung Scheyern
LOCATION:Rathaus Besprechungsraum OG 12, Rathausplatz 1
UID:3a8f1f42ab44ed055e4185bf42caa623-51fd578a5d58bfb4cad12ca8f6829bbd
PRIORITY:3
END:VEVENT
END:VCALENDAR
