BEGIN:VCALENDAR
VERSION:1.0
PRODID:Open2CKalenderExportV11
BEGIN:VEVENT
DTSTAMP:20250110T102327Z
DTSTART:20250211T193000Z
DTEND:20250211T193000Z
CATEGORIES:Sitzungen
SUMMARY:Sitzung des Gemeinderates
DESCRIPTION:  | Weitere Informationen erhalten Sie unter folgendem Link: | SessionNet | Bürgerportal | Kontakt   Gemeindeverwaltung Scheyern
LOCATION:im neuen Bürgersaal, Rathausplatz 2 (2. OG) - derzeit leider kein barrierefreier Zugang möglich
UID:084ad4cae1b91951b3468c798fdc0658-7d459687f9da8fc79985f597e501cfcf
PRIORITY:3
END:VEVENT
END:VCALENDAR
