BEGIN:VCALENDAR
VERSION:1.0
PRODID:Open2CKalenderExportV11
BEGIN:VEVENT
DTSTAMP:20250220T162604Z
DTSTART:20250311T193000Z
DTEND:20250311T193000Z
CATEGORIES:Sitzungen
SUMMARY:Sitzung des Gemeinderates
DESCRIPTION:  | Weitere Informationen erhalten Sie unter folgendem Link: | SessionNet | Bürgerportal | Kontakt   Gemeindeverwaltung Scheyern
LOCATION:im Trauungszimmer im Bürgerhaus, Rathausplatz 2 (1. OG)
UID:2ed53e594e8413096874f66b0c22e5e7-7d459687f9da8fc79985f597e501cfcf
PRIORITY:3
END:VEVENT
END:VCALENDAR
