BEGIN:VCALENDAR
VERSION:1.0
PRODID:Open2CKalenderExportV11
BEGIN:VEVENT
DTSTAMP:20241017T085119Z
DTSTART:20250513T193000Z
DTEND:20250513T193000Z
CATEGORIES:Sitzungen
SUMMARY:Sitzung des Gemeinderates
DESCRIPTION:  | Weitere Informationen erhalten Sie unter folgendem Link: | SessionNet | Bürgerportal | Kontakt   Gemeindeverwaltung Scheyern
LOCATION:im neuen Bürgersaal, Rathausplatz 2 (2. OG)
UID:ac48cb145e5cbb1e031a3d2b6e07e1f6-7d459687f9da8fc79985f597e501cfcf
PRIORITY:3
END:VEVENT
END:VCALENDAR
