BEGIN:VCALENDAR
VERSION:1.0
PRODID:Open2CKalenderExportV11
BEGIN:VEVENT
DTSTAMP:20241104T075301Z
DTSTART:20241109T130000Z
DTEND:20241109T180000Z
CATEGORIES:Vereine
SUMMARY:Hüpfburgfest der freiwilligen Feuerwehr
DESCRIPTION:Feuerwehr Scheyern | Plöckinger Straße 6 | 85298 Scheyern |   |   |                                                                                                                                   |   |   |   |   |   | Einladung zur Hüpfburgenfest am 09.11.2024 |   |   | Liebe Mitbürger, |   | anlässlich des 150-jährigen Gründungsfests der Freiwilligen Feuerwehr Scheyern laden wir euch recht herzlich zu unserem Hüpfburgenfest ein. |   |   |  |  |  |  | Wo: |  |  | Grundschulturnhalle Scheyern, Hochstraße 19 |  |  |  |  | Wann: |  |  | Samstag, den 09.11.2024 |  |  |  |  | Uhrzeit: |  |  | 13 – 18 Uhr |  |  |  |  |   | Der Eintritt ist frei. Kaffee, Kuchen und alkoholfreie Getränke gibt es vor Ort zu kaufen. |   | die Vorstandschaft | der Freiwilligen Feuerwehr Scheyern | Feuerwehr Scheyern | Plöckinger Straße 6 | 85298 Scheyern |   |   |                                                                                                                                   |   |   |   |   |   |  
LOCATION:
UID:3ceae466089de77806d69eda2b0ecb6f-cb3d03a49f604a2022c7f70e64996fe6
PRIORITY:3
END:VEVENT
END:VCALENDAR
