BEGIN:VCALENDAR
VERSION:1.0
PRODID:Open2CKalenderExportV11
BEGIN:VEVENT
DTSTAMP:20241126T141429Z
DTSTART:20241203T193000Z
DTEND:20241203T193000Z
CATEGORIES:Sitzungen
SUMMARY:Sitzung des Gemeinderates
DESCRIPTION:  | Weitere Informationen erhalten Sie unter folgendem Link: | SessionNet | Bürgerportal | Kontakt   Gemeindeverwaltung Scheyern
LOCATION:in neuen Bürgersaal, Rathausplatz 2 ( 2.OG)
UID:77729e934b7f6caccea6c98686bc40e0-7d459687f9da8fc79985f597e501cfcf
PRIORITY:3
END:VEVENT
BEGIN:VEVENT
DTSTAMP:20240930T072750Z
DTSTART:20241210T193000Z
DTEND:20241210T193000Z
CATEGORIES:Sitzungen
SUMMARY:Sitzung des Gemeinderates
DESCRIPTION:  | Weitere Informationen erhalten Sie unter folgendem Link: | SessionNet | Bürgerportal | Kontakt   Gemeindeverwaltung Scheyern
LOCATION:in neuen Bürgersaal, Rathausplatz 2 ( 2.OG)
UID:f6e17dd310d70e3b42e2cca2dae7e795-7d459687f9da8fc79985f597e501cfcf
PRIORITY:3
END:VEVENT
BEGIN:VEVENT
DTSTAMP:20241011T072903Z
DTSTART:20241217T160000Z
DTEND:20241217T160000Z
CATEGORIES:Sitzungen
SUMMARY:Sitzung des Bau- und Umweltausschusses
DESCRIPTION:  | Weitere Informationen erhalten Sie unter folgendem Link: | SessionNet | Bürgerportal | Kontakt   Gemeindeverwaltung Scheyern
LOCATION:im neuen Bürgersaal 2.OG Rathausplatz 2
UID:840fa9b8ead52bfb8870055fbbf97929-2156ad57960b2e69ab15e8dbd7cdf6e2
PRIORITY:3
END:VEVENT
END:VCALENDAR
