BEGIN:VCALENDAR
VERSION:1.0
PRODID:Open2CKalenderExportV11
BEGIN:VEVENT
DTSTAMP:20250110T101735Z
DTSTART:20250129T160000Z
DTEND:20250129T160000Z
CATEGORIES:Sitzungen
SUMMARY:Sitzung des Haupt- und Finanzausschusses
DESCRIPTION:  | Weitere Informationen erhalten Sie unter folgendem Link: | SessionNet | Bürgerportal | Kontakt   Gemeindeverwaltung Scheyern
LOCATION:Rathaus Besprechungsraum OG 12, Rathausplatz 1
UID:81a0958c9a8016aed0aa7bd61afe586d-aef312b59b51b8f7468a65ed1c7d6c27
PRIORITY:3
END:VEVENT
END:VCALENDAR
