BEGIN:VCALENDAR
VERSION:1.0
PRODID:Open2CKalenderExportV11
BEGIN:VEVENT
DTSTAMP:20250324T084819Z
DTSTART:20250329T200000Z
DTEND:20250329T200000Z
CATEGORIES:Kleinkunst
SUMMARY:Starkbierfest 2025
DESCRIPTION: |   |   |   | Organisator   Schützenverein Scheyern
LOCATION:Wittelsbacher Saal im Kloster Scheyern
UID:a4e186c69289603a336d6fee65f074d9-a221e352abc23a8948e77c17b0e36d9c
PRIORITY:3
END:VEVENT
END:VCALENDAR
